BEGIN:VCALENDAR
VERSION:2.0
BEGIN:VEVENT
DTSTART;TZID=Europe/Stockholm:20261227T110000
DTEND;TZID=Europe/Stockholm:20261227T120000
DTSTAMP:20260421T224010
DESCRIPTION:
SEQUENCE:0
SUMMARY:Gudstjänst ?
UID:5549@lawebb.se
END:VEVENT
END:VCALENDAR