BEGIN:VCALENDAR
VERSION:2.0
BEGIN:VEVENT
DTSTART;TZID=Europe/Stockholm:20261213T110000
DTEND;TZID=Europe/Stockholm:20261213T120000
DTSTAMP:20260421T224211
DESCRIPTION:
SEQUENCE:0
SUMMARY:Tillsammansgudstjänst - Tredje advent
UID:4679@lawebb.se
END:VEVENT
END:VCALENDAR