BEGIN:VCALENDAR
VERSION:2.0
BEGIN:VEVENT
DTSTART;TZID=Europe/Stockholm:20261129T110000
DTEND;TZID=Europe/Stockholm:20261129T120000
DTSTAMP:20260421T210839
DESCRIPTION:... i Vårdklockans kyrka
SEQUENCE:0
SUMMARY:Tillsammansgudstjänst - Första advent
UID:9924@lawebb.se
END:VEVENT
END:VCALENDAR