BEGIN:VCALENDAR
VERSION:2.0
BEGIN:VEVENT
DTSTART;TZID=Europe/Stockholm:20261108T110000
DTEND;TZID=Europe/Stockholm:20261108T120000
DTSTAMP:20260421T210941
DESCRIPTION:... i Equmeniakyrkan Hemse
SEQUENCE:0
SUMMARY:Equmeniakyrkan Gotlands Tillsammanshögtid
UID:9728@lawebb.se
END:VEVENT
END:VCALENDAR