BEGIN:VCALENDAR
VERSION:2.0
BEGIN:VEVENT
DTSTART;TZID=Europe/Stockholm:20261101T110000
DTEND;TZID=Europe/Stockholm:20261101T120000
DTSTAMP:20260421T210910
DESCRIPTION:
SEQUENCE:0
SUMMARY:Gudstjänst - Alla helgona
UID:7566@lawebb.se
END:VEVENT
END:VCALENDAR