BEGIN:VCALENDAR
VERSION:2.0
BEGIN:VEVENT
DTSTART;TZID=Europe/Stockholm:20261025T110000
DTEND;TZID=Europe/Stockholm:20261025T120000
DTSTAMP:20260421T194729
DESCRIPTION:... i Vårdklockans kyrka
SEQUENCE:0
SUMMARY:Tillsammansgudstjänst
UID:4765@lawebb.se
END:VEVENT
END:VCALENDAR