BEGIN:VCALENDAR
VERSION:2.0
BEGIN:VEVENT
DTSTART;TZID=Europe/Stockholm:20261011T110000
DTEND;TZID=Europe/Stockholm:20261011T120000
DTSTAMP:20260421T194738
DESCRIPTION:Bön- & offerdag för Equmenia
SEQUENCE:0
SUMMARY:Tillsammansgudstjänst
UID:6646@lawebb.se
END:VEVENT
END:VCALENDAR