BEGIN:VCALENDAR
VERSION:2.0
BEGIN:VEVENT
DTSTART;TZID=Europe/Stockholm:20261004T110000
DTEND;TZID=Europe/Stockholm:20261004T120000
DTSTAMP:20260421T195124
DESCRIPTION:Lasse Johansson predikar
... i Equmeniakyrkan Väte
SEQUENCE:0
SUMMARY:Gudstjänst - Växtpool Gotland, preliminärt
UID:9255@lawebb.se
END:VEVENT
END:VCALENDAR