BEGIN:VCALENDAR
VERSION:2.0
BEGIN:VEVENT
DTSTART;TZID=Europe/Stockholm:20261003T100000
DTEND;TZID=Europe/Stockholm:20261003T110000
DTSTAMP:20260421T195155
DESCRIPTION:*Workshops/seminarier med lunch & fika*
Avslutas kl. 16
Talare: Lasse Johansson
... i Equmeniakyrkan Hemse
SEQUENCE:0
SUMMARY:Inspirationsdag - Växtpool Gotland, preliminärt
UID:2922@lawebb.se
END:VEVENT
END:VCALENDAR