BEGIN:VCALENDAR
VERSION:2.0
BEGIN:VEVENT
DTSTART;TZID=Europe/Stockholm:20260927T110000
DTEND;TZID=Europe/Stockholm:20260927T120000
DTSTAMP:20260421T181613
DESCRIPTION:... i Vårdklockans kyrka
SEQUENCE:0
SUMMARY:Tillsammansgudstjänst
UID:3686@lawebb.se
END:VEVENT
END:VCALENDAR