BEGIN:VCALENDAR
VERSION:2.0
BEGIN:VEVENT
DTSTART;TZID=Europe/Stockholm:20260913T110000
DTEND;TZID=Europe/Stockholm:20260913T120000
DTSTAMP:20260421T181628
DESCRIPTION:
SEQUENCE:0
SUMMARY:Tillsammansgudstjänst
UID:7369@lawebb.se
END:VEVENT
END:VCALENDAR