BEGIN:VCALENDAR
VERSION:2.0
BEGIN:VEVENT
DTSTART;TZID=Europe/Stockholm:20260906T110000
DTEND;TZID=Europe/Stockholm:20260906T120000
DTSTAMP:20260421T182052
DESCRIPTION:
SEQUENCE:0
SUMMARY:Gudstjänst
UID:6353@lawebb.se
END:VEVENT
END:VCALENDAR