BEGIN:VCALENDAR
VERSION:2.0
BEGIN:VEVENT
DTSTART;TZID=Europe/Stockholm:20260827T190000
DTEND;TZID=Europe/Stockholm:20260827T200000
DTSTAMP:20260421T165436
DESCRIPTION:Sara Boström sjunger & spelar
Anna Ljung leder
SEQUENCE:0
SUMMARY:Sinnesrogudstjänst
UID:4966@lawebb.se
END:VEVENT
END:VCALENDAR