BEGIN:VCALENDAR
VERSION:2.0
BEGIN:VEVENT
DTSTART;TZID=Europe/Stockholm:20260823T000000
DTEND;TZID=Europe/Stockholm:20260823T240000
DTSTAMP:20260421T164734
DESCRIPTION:... på Snäckan preliminärt
Joakim Wolhfeil predikar
Sång av helgens kör under ledning av Lena Wohlfeil
Insamling till Diakonia
SEQUENCE:0
SUMMARY:Gudstjänst
UID:9777@lawebb.se
END:VEVENT
END:VCALENDAR