BEGIN:VCALENDAR
VERSION:2.0
BEGIN:VEVENT
DTSTART;TZID=Europe/Stockholm:20260822T180000
DTEND;TZID=Europe/Stockholm:20260822T190000
DTSTAMP:20260421T165115
DESCRIPTION:... i Equmeniakyrkan Hemse
Sång av helgens kör under ledning av Lena Wohlfeil
Berättelser av Joakim Wohlfeil
SEQUENCE:0
SUMMARY:Kör- & berättarkväll
UID:6745@lawebb.se
END:VEVENT
END:VCALENDAR