BEGIN:VCALENDAR
VERSION:2.0
BEGIN:VEVENT
DTSTART;TZID=Europe/Stockholm:20260822T000000
DTEND;TZID=Europe/Stockholm:20260822T240000
DTSTAMP:20260421T165037
DESCRIPTION:... i Equmeniakyrkan Hemse
Lena Wohlfeil, samordnare för musik & kreativa uttryck, Equmeniakyrkan
SEQUENCE:0
SUMMARY:Kördag
UID:7762@lawebb.se
END:VEVENT
END:VCALENDAR