BEGIN:VCALENDAR
VERSION:2.0
BEGIN:VEVENT
DTSTART;TZID=Europe/Stockholm:20260816T100000
DTEND;TZID=Europe/Stockholm:20260816T110000
DTSTAMP:20260421T165400
DESCRIPTION:Eva Reithner predikar & leder nattvarden
SEQUENCE:0
SUMMARY:Tillsammansgudstjänst med nattvard
UID:7579@lawebb.se
END:VEVENT
END:VCALENDAR