BEGIN:VCALENDAR
VERSION:2.0
BEGIN:VEVENT
DTSTART;TZID=Europe/Stockholm:20260813T190000
DTEND;TZID=Europe/Stockholm:20260813T200000
DTSTAMP:20260421T164734
DESCRIPTION:... i Vårdklockans kyrka
SEQUENCE:0
SUMMARY:Sinnesrogudstjänst
UID:2483@lawebb.se
END:VEVENT
END:VCALENDAR