BEGIN:VCALENDAR
VERSION:2.0
BEGIN:VEVENT
DTSTART;TZID=Europe/Stockholm:20260809T100000
DTEND;TZID=Europe/Stockholm:20260809T110000
DTSTAMP:20260421T165037
DESCRIPTION:Doris Lemke predikar
Georg Johansson spelar orgel
SEQUENCE:0
SUMMARY:Gudstjänst - Nådens gåvor
UID:5234@lawebb.se
END:VEVENT
END:VCALENDAR