BEGIN:VCALENDAR
VERSION:2.0
BEGIN:VEVENT
DTSTART;TZID=Europe/Stockholm:20260802T190000
DTEND;TZID=Europe/Stockholm:20260802T200000
DTSTAMP:20260421T165115
DESCRIPTION:Agneta Lindqvist predikar
Åke Strömbom spelar piano & sjunger
SEQUENCE:0
SUMMARY:Gudstjänst i kvällstid
UID:7983@lawebb.se
END:VEVENT
END:VCALENDAR