BEGIN:VCALENDAR
VERSION:2.0
BEGIN:VEVENT
DTSTART;TZID=Europe/Stockholm:20260726T100000
DTEND;TZID=Europe/Stockholm:20260726T110000
DTSTAMP:20260421T151237
DESCRIPTION:... i Vårdklockans kyrka
SEQUENCE:0
SUMMARY:Tillsammansgudstjänst
UID:4848@lawebb.se
END:VEVENT
END:VCALENDAR