BEGIN:VCALENDAR
VERSION:2.0
BEGIN:VEVENT
DTSTART;TZID=Europe/Stockholm:20260712T190000
DTEND;TZID=Europe/Stockholm:20260712T200000
DTSTAMP:20260421T151253
DESCRIPTION:Paul Enlund predikar
Georg Johansson spelar orgel
SEQUENCE:0
SUMMARY:Tillsammansgudstjänst i kvällstid
UID:8793@lawebb.se
END:VEVENT
END:VCALENDAR