BEGIN:VCALENDAR
VERSION:2.0
BEGIN:VEVENT
DTSTART;TZID=Europe/Stockholm:20260628T190000
DTEND;TZID=Europe/Stockholm:20260628T200000
DTSTAMP:20260421T135549
DESCRIPTION:Georg Johansson spelar orgel
SEQUENCE:0
SUMMARY:Tillsammansudstjänst i kvällstid
UID:8483@lawebb.se
END:VEVENT
END:VCALENDAR