BEGIN:VCALENDAR
VERSION:2.0
BEGIN:VEVENT
DTSTART;TZID=Europe/Stockholm:20260622T103000
DTEND;TZID=Europe/Stockholm:20260622T113000
DTSTAMP:20260421T135027
DESCRIPTION:... i Visby domkyrka
Equmeniakyrkans kyrkoledare Karin Wiborn predikar
SEQUENCE:0
SUMMARY:Ekumenisk gudstjänst - Almedalsveckan
UID:9267@lawebb.se
END:VEVENT
END:VCALENDAR