BEGIN:VCALENDAR
VERSION:2.0
BEGIN:VEVENT
DTSTART;TZID=Europe/Stockholm:20260621T110000
DTEND;TZID=Europe/Stockholm:20260621T120000
DTSTAMP:20260421T135604
DESCRIPTION:... på Snäckan
SEQUENCE:0
SUMMARY:Läsa mera lägrets avslutningsgudstjänst
UID:3369@lawebb.se
END:VEVENT
END:VCALENDAR