BEGIN:VCALENDAR
VERSION:2.0
BEGIN:VEVENT
DTSTART;TZID=Europe/Stockholm:20260621T190000
DTEND;TZID=Europe/Stockholm:20260621T200000
DTSTAMP:20260421T135257
DESCRIPTION:Jan Olander predikar
Åke Strömbom spelar piano & sjunger
SEQUENCE:0
SUMMARY:Gudstjänst i kvällstid
UID:6937@lawebb.se
END:VEVENT
END:VCALENDAR