BEGIN:VCALENDAR
VERSION:2.0
BEGIN:VEVENT
DTSTART;TZID=Europe/Stockholm:20260617T140000
DTEND;TZID=Europe/Stockholm:20260617T150000
DTSTAMP:20260421T135451
DESCRIPTION:... på Korttidsenheten Visby
Anna Ljung talar & leder
Georg Johansson spelar
Annbritt Lindqvist är kyrkvärd
SEQUENCE:0
SUMMARY:Andakt
UID:2942@lawebb.se
END:VEVENT
END:VCALENDAR