BEGIN:VCALENDAR
VERSION:2.0
BEGIN:VEVENT
DTSTART;TZID=Europe/Stockholm:20260614T100000
DTEND;TZID=Europe/Stockholm:20260614T110000
DTSTAMP:20260421T135743
DESCRIPTION:Anna Ljung predikar
Sara Boström sjunger & spelar
SEQUENCE:0
SUMMARY:Tillsammansgudstjänst med nattvard
UID:8375@lawebb.se
END:VEVENT
END:VCALENDAR