BEGIN:VCALENDAR
VERSION:2.0
BEGIN:VEVENT
DTSTART;TZID=Europe/Stockholm:20260607T100000
DTEND;TZID=Europe/Stockholm:20260607T110000
DTSTAMP:20260421T135452
DESCRIPTION:Ola Dorve predikar
Ragnar Håkanson spelar orgel
SEQUENCE:0
SUMMARY:Gudstjänst
UID:5244@lawebb.se
END:VEVENT
END:VCALENDAR