BEGIN:VCALENDAR
VERSION:2.0
BEGIN:VEVENT
DTSTART;TZID=Europe/Stockholm:20260531T110000
DTEND;TZID=Europe/Stockholm:20260531T120000
DTSTAMP:20260421T123824
DESCRIPTION:... i Vårdklockans kyrka, obs tiden
SEQUENCE:0
SUMMARY:Tillsammansgudstjänst
UID:8753@lawebb.se
END:VEVENT
END:VCALENDAR