BEGIN:VCALENDAR
VERSION:2.0
BEGIN:VEVENT
DTSTART;TZID=Europe/Stockholm:20260530T190000
DTEND;TZID=Europe/Stockholm:20260530T200000
DTSTAMP:20260421T123325
DESCRIPTION:... i Visby Pingstkyrka
Stina & Jonathan Lindén med flera
SEQUENCE:0
SUMMARY:UN(G)IK- Lördagskväll för unga vuxna
UID:3236@lawebb.se
END:VEVENT
END:VCALENDAR