BEGIN:VCALENDAR
VERSION:2.0
BEGIN:VEVENT
DTSTART;TZID=Europe/Stockholm:20260528T190000
DTEND;TZID=Europe/Stockholm:20260528T200000
DTSTAMP:20260421T123820
DESCRIPTION:*Tema: Det fungerar!*
Fredrikke Mogensen
Emma Jansson mfl sjunger
Sara Boström spelar
Anna Ljung leder
SEQUENCE:0
SUMMARY:Sinnesrogudstjänst
UID:3385@lawebb.se
END:VEVENT
END:VCALENDAR