BEGIN:VCALENDAR
VERSION:2.0
BEGIN:VEVENT
DTSTART;TZID=Europe/Stockholm:20260527T093000
DTEND;TZID=Europe/Stockholm:20260527T103000
DTSTAMP:20260421T123400
DESCRIPTION:Sara Boström, Britt Björkqvist, 
Agnes Thomasson & Anna Ljung
SEQUENCE:0
SUMMARY:Musiklekis Bim Bom Bam - Terminsavslutning
UID:8672@lawebb.se
END:VEVENT
END:VCALENDAR