BEGIN:VCALENDAR
VERSION:2.0
BEGIN:VEVENT
DTSTART;TZID=Europe/Stockholm:20260525T090000
DTEND;TZID=Europe/Stockholm:20260525T100000
DTSTAMP:20260421T122906
DESCRIPTION:
SEQUENCE:0
SUMMARY:Arbete ute
UID:3649@lawebb.se
END:VEVENT
END:VCALENDAR