BEGIN:VCALENDAR
VERSION:2.0
BEGIN:VEVENT
DTSTART;TZID=Europe/Stockholm:20260524T100000
DTEND;TZID=Europe/Stockholm:20260524T110000
DTSTAMP:20260421T123657
DESCRIPTION:Anna Ljung predikar
Britt Björkqvist leder
Georg Johansson spelar orgel 
Församlingsmöte efter kyrkfikat
SEQUENCE:0
SUMMARY:Gudstjänst - Pingstdagen
UID:9467@lawebb.se
END:VEVENT
END:VCALENDAR