BEGIN:VCALENDAR
VERSION:2.0
BEGIN:VEVENT
DTSTART;TZID=Europe/Stockholm:20260523T180000
DTEND;TZID=Europe/Stockholm:20260523T190000
DTSTAMP:20260421T123814
DESCRIPTION:*Equmeniakyrkan Västra Gotlands församlingskör*
... på Snäckan
SEQUENCE:0
SUMMARY:Vårkonsert med
UID:8783@lawebb.se
END:VEVENT
END:VCALENDAR