BEGIN:VCALENDAR
VERSION:2.0
BEGIN:VEVENT
DTSTART;TZID=Europe/Stockholm:20260522T190000
DTEND;TZID=Europe/Stockholm:20260522T200000
DTSTAMP:20260421T123600
DESCRIPTION:Stina Lindén, Agnes Thomasson & 
Anna Ljung
SEQUENCE:0
SUMMARY:Ungdomskväll med aktiviteter & fika
UID:7372@lawebb.se
END:VEVENT
END:VCALENDAR