BEGIN:VCALENDAR
VERSION:2.0
BEGIN:VEVENT
DTSTART;TZID=Europe/Stockholm:20260520T093000
DTEND;TZID=Europe/Stockholm:20260520T103000
DTSTAMP:20260421T123726
DESCRIPTION:Sara Boström, Britt Björkqvist & 
Anna Ljung
SEQUENCE:0
SUMMARY:Musiklekis Bim Bom Bam
UID:6855@lawebb.se
END:VEVENT
END:VCALENDAR