BEGIN:VCALENDAR
VERSION:2.0
BEGIN:VEVENT
DTSTART;TZID=Europe/Stockholm:20260517T180000
DTEND;TZID=Europe/Stockholm:20260517T190000
DTSTAMP:20260421T123815
DESCRIPTION:Anna Ljung predikar
Annbritt Lindqvist leder
Ingrid Arvidsson & Per Henriksson sjunger
Sara Boström spelar
SEQUENCE:0
SUMMARY:Tillsammansgudstjänst i kvällstid
UID:2295@lawebb.se
END:VEVENT
END:VCALENDAR