BEGIN:VCALENDAR
VERSION:2.0
BEGIN:VEVENT
DTSTART;TZID=Europe/Stockholm:20260516T190000
DTEND;TZID=Europe/Stockholm:20260516T200000
DTSTAMP:20260421T123640
DESCRIPTION:Stina & Jonathan Lindén med flera
SEQUENCE:0
SUMMARY:UN(G)IK- Lördagskväll för unga vuxna
UID:4949@lawebb.se
END:VEVENT
END:VCALENDAR