BEGIN:VCALENDAR
VERSION:2.0
BEGIN:VEVENT
DTSTART;TZID=Europe/Stockholm:20260515T190000
DTEND;TZID=Europe/Stockholm:20260515T200000
DTSTAMP:20260421T123825
DESCRIPTION:... i Vårdklockanskyrka
Även kl. 21
SEQUENCE:0
SUMMARY:Sinnesrogudstjänst, AA-konventet
UID:7423@lawebb.se
END:VEVENT
END:VCALENDAR