BEGIN:VCALENDAR
VERSION:2.0
BEGIN:VEVENT
DTSTART;TZID=Europe/Stockholm:20260512T140000
DTEND;TZID=Europe/Stockholm:20260512T150000
DTSTAMP:20260421T122905
DESCRIPTION:En stund av gemenskap & fika
SEQUENCE:0
SUMMARY:Tisdagsträffen
UID:6946@lawebb.se
END:VEVENT
END:VCALENDAR