BEGIN:VCALENDAR
VERSION:2.0
BEGIN:VEVENT
DTSTART;TZID=Europe/Stockholm:20260510T100000
DTEND;TZID=Europe/Stockholm:20260510T110000
DTSTAMP:20260421T123728
DESCRIPTION:Anna Ljung predikar
Lars Ahlner leder
Kjell Gardarfve sjunger
Elke Unt spelar orgel
Försäljning på kyrktorget efter kl. 11.30
SEQUENCE:0
SUMMARY:Gudstjänst
UID:3656@lawebb.se
END:VEVENT
END:VCALENDAR