BEGIN:VCALENDAR
VERSION:2.0
BEGIN:VEVENT
DTSTART;TZID=Europe/Stockholm:20260507T093000
DTEND;TZID=Europe/Stockholm:20260507T103000
DTSTAMP:20260421T123155
DESCRIPTION:Vi läser, samtalar, ber & fikar
Anna Ljung
SEQUENCE:0
SUMMARY:Bibelsamtal & bön
UID:4538@lawebb.se
END:VEVENT
END:VCALENDAR