BEGIN:VCALENDAR
VERSION:2.0
BEGIN:VEVENT
DTSTART;TZID=Europe/Stockholm:20260505T140000
DTEND;TZID=Europe/Stockholm:20260505T150000
DTSTAMP:20260421T123819
DESCRIPTION:En stund av gemenskap & fika
SEQUENCE:0
SUMMARY:Tisdagsträffen
UID:8768@lawebb.se
END:VEVENT
END:VCALENDAR