BEGIN:VCALENDAR
VERSION:2.0
BEGIN:VEVENT
DTSTART;TZID=Europe/Stockholm:20260503T100000
DTEND;TZID=Europe/Stockholm:20260503T110000
DTSTAMP:20260421T123815
DESCRIPTION:Anna Ljung predikar
Ulrika Holmberg leder
Georg Johansson spelar orgel
Kathrin Dohse spelar tvärflöjt
SEQUENCE:0
SUMMARY:Gudstjänst med nattvard
UID:5822@lawebb.se
END:VEVENT
END:VCALENDAR