BEGIN:VCALENDAR
VERSION:2.0
BEGIN:VEVENT
DTSTART;TZID=Europe/Stockholm:20260429T093000
DTEND;TZID=Europe/Stockholm:20260429T103000
DTSTAMP:20260421T110647
DESCRIPTION:Sara Boström, Britt Björkqvist &
Agnes Thomasson
SEQUENCE:0
SUMMARY:Musiklekis Bim Bom Bam
UID:2364@lawebb.se
END:VEVENT
END:VCALENDAR