BEGIN:VCALENDAR
VERSION:2.0
BEGIN:VEVENT
DTSTART;TZID=Europe/Stockholm:20260426T110000
DTEND;TZID=Europe/Stockholm:20260426T120000
DTSTAMP:20260421T105523
DESCRIPTION:... i Vårdklockans kyrka
SEQUENCE:0
SUMMARY:Tillsammansgudstjänst
UID:7927@lawebb.se
END:VEVENT
END:VCALENDAR