BEGIN:VCALENDAR
VERSION:2.0
BEGIN:VEVENT
DTSTART;TZID=Europe/Stockholm:20260425T180000
DTEND;TZID=Europe/Stockholm:20260425T190000
DTSTAMP:20260421T111312
DESCRIPTION:Vi ses över en härlig måltid och 
pratar utifrån Niklas Piensohos fråga 
&#34;Vad vill Gud med församlingen?&#34;
Anmälan till Anna Ljung senast 12 april
SEQUENCE:0
SUMMARY:Församlingskväll
UID:6836@lawebb.se
END:VEVENT
END:VCALENDAR