BEGIN:VCALENDAR
VERSION:2.0
BEGIN:VEVENT
DTSTART;TZID=Europe/Stockholm:20260423T190000
DTEND;TZID=Europe/Stockholm:20260423T200000
DTSTAMP:20260421T110817
DESCRIPTION:Christoffer Carsbo delar 
Emma Jansson sjunger
Sara Boström spelar
Anna Ljung leder
SEQUENCE:0
SUMMARY:Sinnesrogudstjänst
UID:7899@lawebb.se
END:VEVENT
END:VCALENDAR